BEGIN:VCALENDAR
VERSION:2.0
PRODID:-//Occidente - ECPv6.15.20//NONSGML v1.0//EN
CALSCALE:GREGORIAN
METHOD:PUBLISH
X-ORIGINAL-URL:https://occidente.ciesas.edu.mx
X-WR-CALDESC:Eventos para Occidente
REFRESH-INTERVAL;VALUE=DURATION:PT1H
X-Robots-Tag:noindex
X-PUBLISHED-TTL:PT1H
BEGIN:VTIMEZONE
TZID:UTC
BEGIN:STANDARD
TZOFFSETFROM:+0000
TZOFFSETTO:+0000
TZNAME:UTC
DTSTART:20230101T000000
END:STANDARD
END:VTIMEZONE
BEGIN:VEVENT
DTSTART;TZID=UTC:20240124T100000
DTEND;TZID=UTC:20240124T120000
DTSTAMP:20260419T225744
CREATED:20231123T060413Z
LAST-MODIFIED:20231207T235407Z
UID:20282-1706090400-1706097600@occidente.ciesas.edu.mx
SUMMARY:Ciudad y Migración en el contexto latinoamericano
DESCRIPTION:Seminario Permanente sobre Migración \nSesión: Ciudades y Migración en el contexto latinoamericano \nPresenta: Dra. Silvia Giourguli COLMEX \nsepemio@ciesas.edu.mx \nRegistro: https://acortar.link/zSgNkr
URL:https://occidente.ciesas.edu.mx/event/ciudad-y-migracion-en-el-contexto-latinoamericano/
ATTACH;FMTTYPE=image/png:https://occidente.ciesas.edu.mx/wp-content/uploads/2023/11/24Enero-e1701971640626.png
ORGANIZER;CN="TRAMOS":MAILTO:sepemio@ciesas.edu.mx
END:VEVENT
BEGIN:VEVENT
DTSTART;TZID=UTC:20240124T120000
DTEND;TZID=UTC:20240124T140000
DTSTAMP:20260419T225744
CREATED:20240119T235447Z
LAST-MODIFIED:20240119T235536Z
UID:20478-1706097600-1706104800@occidente.ciesas.edu.mx
SUMMARY:¿Agroextractivismo o justicia ambiental?
DESCRIPTION:Seminario Permanente de Ambiente y Sociedad \nInvita a su séptima sesión: ¿Agroextractivismo o justicia ambiental en clave intergeneracional para niñeces y juventudes rurales? \nPresenta: Dr. David Sánchez Sánchez \nRegistro para acceso a BlueJeans y textos sugeridos: https://bit.ly/SAS-S07 \n#YouTube #CIESAS_Occidente: https://youtube.com/live/xZXcO4FuEYg?feature=share
URL:https://occidente.ciesas.edu.mx/event/agroextractivismo-o-justicia-ambiental/
ATTACH;FMTTYPE=image/png:https://occidente.ciesas.edu.mx/wp-content/uploads/2024/01/7.4.CDRD7mo_SPAS_2023.png
ORGANIZER;CN="Seminario Permanente Ambiente y Sociedad":MAILTO:sem.amb.soc@gmail.com
END:VEVENT
END:VCALENDAR