BEGIN:VCALENDAR
VERSION:2.0
PRODID:-//Occidente - ECPv6.15.20//NONSGML v1.0//EN
CALSCALE:GREGORIAN
METHOD:PUBLISH
X-ORIGINAL-URL:https://occidente.ciesas.edu.mx
X-WR-CALDESC:Eventos para Occidente
REFRESH-INTERVAL;VALUE=DURATION:PT1H
X-Robots-Tag:noindex
X-PUBLISHED-TTL:PT1H
BEGIN:VTIMEZONE
TZID:UTC
BEGIN:STANDARD
TZOFFSETFROM:+0000
TZOFFSETTO:+0000
TZNAME:UTC
DTSTART:20230101T000000
END:STANDARD
END:VTIMEZONE
BEGIN:VEVENT
DTSTART;TZID=UTC:20240219T110000
DTEND;TZID=UTC:20240219T130000
DTSTAMP:20260425T084901
CREATED:20240209T221000Z
LAST-MODIFIED:20240209T221000Z
UID:20523-1708340400-1708347600@occidente.ciesas.edu.mx
SUMMARY:Colonialidad de género y sexualidad.
DESCRIPTION:Cátedra de Estudios Regionales Guillermo de la Peña \nPresentación: Colonialidad de género y sexualidad. Cómo las vidas íntimas del pueblo Wixárika cambiaron para siempre \nAuditorio Guillermo de la Peña. Av España 1359\, Moderna\, 44190 Guadalajara\, Jal. \nYouTube de CIESAS Occidente https://youtube.com/live/Kvrgf8cDt2c?feature=share
URL:https://occidente.ciesas.edu.mx/event/colonialidad-de-genero-y-sexualidad/
ATTACH;FMTTYPE=image/png:https://occidente.ciesas.edu.mx/wp-content/uploads/2024/02/426125772_733086982301242_4374186565272728350_n.png
END:VEVENT
END:VCALENDAR