BEGIN:VCALENDAR
VERSION:2.0
PRODID:-//Occidente - ECPv6.15.20//NONSGML v1.0//EN
CALSCALE:GREGORIAN
METHOD:PUBLISH
X-ORIGINAL-URL:https://occidente.ciesas.edu.mx
X-WR-CALDESC:Eventos para Occidente
REFRESH-INTERVAL;VALUE=DURATION:PT1H
X-Robots-Tag:noindex
X-PUBLISHED-TTL:PT1H
BEGIN:VTIMEZONE
TZID:UTC
BEGIN:STANDARD
TZOFFSETFROM:+0000
TZOFFSETTO:+0000
TZNAME:UTC
DTSTART:20230101T000000
END:STANDARD
END:VTIMEZONE
BEGIN:VEVENT
DTSTART;TZID=UTC:20240221T100000
DTEND;TZID=UTC:20240221T120000
DTSTAMP:20260425T084912
CREATED:20231123T060641Z
LAST-MODIFIED:20231201T015721Z
UID:20286-1708509600-1708516800@occidente.ciesas.edu.mx
SUMMARY:Refugio y Marcos Regulatorios en la Región
DESCRIPTION:Seminario Permanente sobre Migración \nSesión: Refugio y Marcos Regulatorios en la Región \nPresenta: Feline Frier CAMIFOR-UP \nsepemio@ciesas.edu.mx \nRegistro: https://acortar.link/zSgNkr
URL:https://occidente.ciesas.edu.mx/event/refugio-y-marcos-regulatorios-en-la-region/
ATTACH;FMTTYPE=image/png:https://occidente.ciesas.edu.mx/wp-content/uploads/2023/11/21Febrero-e1701374233161.png
ORGANIZER;CN="TRAMOS":MAILTO:sepemio@ciesas.edu.mx
END:VEVENT
END:VCALENDAR