BEGIN:VCALENDAR
VERSION:2.0
PRODID:-//Occidente - ECPv6.15.20//NONSGML v1.0//EN
CALSCALE:GREGORIAN
METHOD:PUBLISH
X-ORIGINAL-URL:https://occidente.ciesas.edu.mx
X-WR-CALDESC:Eventos para Occidente
REFRESH-INTERVAL;VALUE=DURATION:PT1H
X-Robots-Tag:noindex
X-PUBLISHED-TTL:PT1H
BEGIN:VTIMEZONE
TZID:UTC
BEGIN:STANDARD
TZOFFSETFROM:+0000
TZOFFSETTO:+0000
TZNAME:UTC
DTSTART:20230101T000000
END:STANDARD
END:VTIMEZONE
BEGIN:VEVENT
DTSTART;TZID=UTC:20240304T110000
DTEND;TZID=UTC:20240304T130000
DTSTAMP:20260425T223923
CREATED:20240222T235404Z
LAST-MODIFIED:20240227T222848Z
UID:20558-1709550000-1709557200@occidente.ciesas.edu.mx
SUMMARY:Sesión Informativa\, Doctorado en Ciencias Sociales\, CIESAS Occidente
DESCRIPTION:Sesión Informativa del Doctorado en Ciencias Sociales\, Unidad CIESAS Occidente\nParticipantes:\nDra. María Magdalena Villarreal Martínez. Dirección Regional\nDr. Héctor Medina Miranda. Coordinación de Posgrado\nDr. Jorge Eduardo Aceves Lozano\nDra. María Alejandra Aguilar Ros\nDr. Edel José Fresneda Camacho\nDr. Gerardo Bernache Pérez
URL:https://occidente.ciesas.edu.mx/event/sesion-informativa-doctorado-en-ciencias-sociales-ciesas-occidente/
ATTACH;FMTTYPE=image/jpeg:https://occidente.ciesas.edu.mx/wp-content/uploads/2024/02/InstagramSesionInformativa-CIESAS-Occidente-2024.jpg
END:VEVENT
BEGIN:VEVENT
DTSTART;TZID=UTC:20240304T170000
DTEND;TZID=UTC:20240304T170000
DTSTAMP:20260425T223923
CREATED:20240221T020925Z
LAST-MODIFIED:20240221T020925Z
UID:20552-1709571600-1709571600@occidente.ciesas.edu.mx
SUMMARY:
DESCRIPTION:El Seminario Interdisciplinario en Educación del CIESAS invita a la mesa «Propuestas pedagógicas femeninas en México\, 1930-1950»\n\n\nPonentes: Dra. Verónica Oikión Solano El Colegio de Michoacán – Colmich con «La misión pedagógica de Graciela Amador Sandoval en la vanguardia del teatro guiñol infantil\, los años treinta». Dra María Tere Fernández Aceves #CIESAS_Occicente con «La pedagogía de la educación cívica: el caso de Atala Apodaca Anaya (1884-1977)».\n\n\nComentarista: Dra. Elissa Rashkin Universidad Veracruzana\n\n\nFacebookLive  CIESAS Occidente El Colegio de San Luis\, A.C.
URL:https://occidente.ciesas.edu.mx/event/20552/
ATTACH;FMTTYPE=image/png:https://occidente.ciesas.edu.mx/wp-content/uploads/2024/02/3.4.VRTLExt3er_SIE_2024.png
ORGANIZER;CN="Seminario Interdisciplinario de Educaci%C3%B3n":MAILTO:semeducciesascleg@gmail.com
END:VEVENT
END:VCALENDAR