BEGIN:VCALENDAR
VERSION:2.0
PRODID:-//Occidente - ECPv6.15.20//NONSGML v1.0//EN
CALSCALE:GREGORIAN
METHOD:PUBLISH
X-ORIGINAL-URL:https://occidente.ciesas.edu.mx
X-WR-CALDESC:Eventos para Occidente
REFRESH-INTERVAL;VALUE=DURATION:PT1H
X-Robots-Tag:noindex
X-PUBLISHED-TTL:PT1H
BEGIN:VTIMEZONE
TZID:UTC
BEGIN:STANDARD
TZOFFSETFROM:+0000
TZOFFSETTO:+0000
TZNAME:UTC
DTSTART:20230101T000000
END:STANDARD
END:VTIMEZONE
BEGIN:VEVENT
DTSTART;TZID=UTC:20241015T170000
DTEND;TZID=UTC:20241015T190000
DTSTAMP:20260419T065432
CREATED:20241009T021755Z
LAST-MODIFIED:20241009T021755Z
UID:21446-1729011600-1729018800@occidente.ciesas.edu.mx
SUMMARY:
DESCRIPTION:Seminario sobre Religiosidades Contemporáneas.Sesión: Las constelaciones familiares vistas desde las ciencias sociales.Presentan:Dra. Arely Medina con Creer en la sanación: La eficacia del ritual y las experiencias somáticas en la Terapia de Constelaciones Familiares.Dra. Clara Luz Villanueva con Relaciones sociales y trabajo emocional en el entramado de los procesos de salud\, enfermedad y atención: el caso de las constelaciones familiares en México.Textos sugeridos: https://bit.ly/SRCsep24
URL:https://occidente.ciesas.edu.mx/event/21446/
ATTACH;FMTTYPE=image/png:https://occidente.ciesas.edu.mx/wp-content/uploads/2024/10/Cuadrado-1-e1728418595845.png
END:VEVENT
BEGIN:VEVENT
DTSTART;TZID=UTC:20241010T120000
DTEND;TZID=UTC:20241010T140000
DTSTAMP:20260419T065432
CREATED:20241004T013952Z
LAST-MODIFIED:20241004T013952Z
UID:21443-1728561600-1728568800@occidente.ciesas.edu.mx
SUMMARY:Transición energética y demanda de cobre: efectos y desafíos
DESCRIPTION:El Seminario: Los Claroscuros de la Transición Energética en América Latina invita a la sesión Transición energética y demanda de cobre: efectos y desafíos con Mauricio Lorca Universidad de Atacama y Araceli Clavijo CONICET La Plata\n 10 octubre 2024\n 12:00 horas (Mx) 15:00 horas (Arg y Cl)\nFacebookLive  #CIESAS_Occidente\nRegistro  https://bit.ly/TransEnerOct1\n\n\n#SomosCIESAS
URL:https://occidente.ciesas.edu.mx/event/transicion-energetica-y-demanda-de-cobre-efectos-y-desafios/
ATTACH;FMTTYPE=image/png:https://occidente.ciesas.edu.mx/wp-content/uploads/2024/10/Cuadrado.png
END:VEVENT
BEGIN:VEVENT
DTSTART;TZID=UTC:20241009T170000
DTEND;TZID=UTC:20241009T190000
DTSTAMP:20260419T065432
CREATED:20240925T225153Z
LAST-MODIFIED:20240925T225153Z
UID:21424-1728493200-1728500400@occidente.ciesas.edu.mx
SUMMARY:Extractivismo\, contaminación y luchas socioambientales en México
DESCRIPTION:El Seminario Ecología política\, sufrimiento socioambiental y acción política invita a la presentación del libro: Extractivismo\, contaminación y luchas socioambientales en México\, editado por Itaca Editorial y la Universidad Autónoma de Zacatecas.Presentan: Darcy Tetreault\, Carlos Lucio (Difusión. Unidad Académica de Estudios del Desarrollo) y Cindy McCulligh (#CIESAS_Occidente).Comentan: Inés Durán Matute (#CIESAS_Occidente) y José Carlos Rodríguez Toral (Universidad de Guadalajara).
URL:https://occidente.ciesas.edu.mx/event/extractivismo-contaminacion-y-luchas-socioambientales-en-mexico/
ATTACH;FMTTYPE=image/png:https://occidente.ciesas.edu.mx/wp-content/uploads/2024/09/Cuadrado-6.png
END:VEVENT
BEGIN:VEVENT
DTSTART;TZID=UTC:20241007T170000
DTEND;TZID=UTC:20241007T190000
DTSTAMP:20260419T065432
CREATED:20240918T041826Z
LAST-MODIFIED:20240918T041826Z
UID:21407-1728320400-1728327600@occidente.ciesas.edu.mx
SUMMARY:El referente identitario cultural del currículum de la educación básica mexicana
DESCRIPTION:El Seminario Interdisciplinario en Educación del CIESAS invita a la sesión El referente identitario cultural del currículum de la educación básica mexicana: relaciones entre #raza\, clase y #epistemología\, con Dra. Ana Laura Gallardo Gutiérrez UNAM Universidad Nacional Autónoma de México. Comenta: Dr. Alejandro Martínez Canales Ciesas-Noreste.\n\n\n#SomoCIESAS
URL:https://occidente.ciesas.edu.mx/event/el-referente-identitario-cultural-del-curriculum-de-la-educacion-basica-mexicana/
ATTACH;FMTTYPE=image/jpeg:https://occidente.ciesas.edu.mx/wp-content/uploads/2024/09/InstagramCatedraLuzElenaGalvan-SIE-CIESAS-AnaLauraGallardoGutierrez-e1726611345497.jpg
END:VEVENT
BEGIN:VEVENT
DTSTART;TZID=UTC:20241003T100000
DTEND;TZID=UTC:20241003T120000
DTSTAMP:20260419T065432
CREATED:20240929T091338Z
LAST-MODIFIED:20240929T091338Z
UID:21438-1727949600-1727956800@occidente.ciesas.edu.mx
SUMMARY:Perfiles de vulnerabilidad desde personas en Movilidad Humana por la región Centro-Norte del Occidente de México
DESCRIPTION:Seminario Permanente sobre Migración TRAMOS invita a la sesión «Perfiles de vulnerabilidad desde personas en Movilidad Humana por la región Centro-Norte del Occidente de México» con Adriana Arias y Olga Aikin ITESO\, Universidad Jesuita de Guadalajara \nYouTube  @TARMOSSeminarioCIESAS
URL:https://occidente.ciesas.edu.mx/event/perfiles-de-vulnerabilidad-desde-personas-en-movilidad-humana-por-la-region-centro-norte-del-occidente-de-mexico/
ATTACH;FMTTYPE=image/png:https://occidente.ciesas.edu.mx/wp-content/uploads/2024/09/Cuadrado-7.png
END:VEVENT
BEGIN:VEVENT
DTSTART;TZID=UTC:20240926T170000
DTEND;TZID=UTC:20240926T190000
DTSTAMP:20260419T065432
CREATED:20240918T213125Z
LAST-MODIFIED:20240919T021930Z
UID:21411-1727370000-1727377200@occidente.ciesas.edu.mx
SUMMARY:Los retos de la transición energética en Jalisco
DESCRIPTION:Seminario los claroscuros de la transición energética en América latina: conflictos y alternativas socioterritoriales\nPresentan:\nDr. Mariano Beret Rodríguez con Experiencias de incidencia de micorredes eléctricas en sistemas comunitarios de abastecimiento de agua hidroenergéticamente vulnerables: pozo El Sauz y manantial El Bañito.\nMtro. Víctor Cervantes Verdín con Los retos de la transición energética en Jalisco\nDr. Josué Rosendo Rentería con La transición justa en torno al trabajo y el empleo en la industria solar en el estado de Jalisco\nRegistro: https://bit.ly/TransEnerSep2 \n 
URL:https://occidente.ciesas.edu.mx/event/los-retos-de-la-transicion-energetica-en-jalisco/
ATTACH;FMTTYPE=image/png:https://occidente.ciesas.edu.mx/wp-content/uploads/2024/09/Cuadrado-4-e1726690764392.png
END:VEVENT
BEGIN:VEVENT
DTSTART;TZID=UTC:20240926T100000
DTEND;TZID=UTC:20240926T120000
DTSTAMP:20260419T065432
CREATED:20240924T031137Z
LAST-MODIFIED:20240924T031137Z
UID:21421-1727344800-1727352000@occidente.ciesas.edu.mx
SUMMARY:Movilidad humana en el Caribe: caso Haití
DESCRIPTION:Seminario Permanente sobre migración TRAMOS\nSesión: Movilidad humana en el Caribe: caso Haití\nPresenta: Nora Gallegos Tapia
URL:https://occidente.ciesas.edu.mx/event/movilidad-humana-en-el-caribe-caso-haiti/
ATTACH;FMTTYPE=image/png:https://occidente.ciesas.edu.mx/wp-content/uploads/2024/09/Cuadrado-5.png
END:VEVENT
BEGIN:VEVENT
DTSTART;TZID=UTC:20240925T120000
DTEND;TZID=UTC:20240925T140000
DTSTAMP:20260419T065432
CREATED:20240911T225129Z
LAST-MODIFIED:20240911T231947Z
UID:21396-1727265600-1727272800@occidente.ciesas.edu.mx
SUMMARY:Leviatán: Crimen organizado\, control y violencia en jóvenes
DESCRIPTION:Seminario Permanente de Corporalidades\n6ta. sesión: Leviatán: Crimen organizado\, control y violencia en jóvenes\nImparte: Dra. Tamara Segura\nComentan: GT Violencia y Cuerpo\nFacebookLive: @CIESASoccidente
URL:https://occidente.ciesas.edu.mx/event/leviatan-crimen-organizado-control-y-violencia-en-jovenes/
ATTACH;FMTTYPE=image/png:https://occidente.ciesas.edu.mx/wp-content/uploads/2024/09/SEPCORP-2023_20240911_085613_0000-e1726075175445.png
END:VEVENT
BEGIN:VEVENT
DTSTART;TZID=UTC:20240924T170000
DTEND;TZID=UTC:20240924T190000
DTSTAMP:20260419T065432
CREATED:20240626T034853Z
LAST-MODIFIED:20240918T033752Z
UID:21227-1727197200-1727204400@occidente.ciesas.edu.mx
SUMMARY:Sociología de la salud y respuestas sociales de cuidado
DESCRIPTION:Seminario Permanente Socioantropologia de la Salud en Occidente\nEje temático. Sociología de la salud y respuestas sociales de cuidado\nFacebook Live\nInformes: seminario.ssaso@gmail.com\nEvento: Híbrido
URL:https://occidente.ciesas.edu.mx/event/sociologia-de-la-salud-y-respuestas-sociales-de-cuidado/
ATTACH;FMTTYPE=image/png:https://occidente.ciesas.edu.mx/wp-content/uploads/2024/06/SSASO-27-de-SEPTIEMBRE-2024-1080x1080-1-e1726609064924.png
END:VEVENT
BEGIN:VEVENT
DTSTART;TZID=UTC:20240918T120000
DTEND;TZID=UTC:20240918T140000
DTSTAMP:20260419T065432
CREATED:20240914T024409Z
LAST-MODIFIED:20240914T024429Z
UID:21402-1726660800-1726668000@occidente.ciesas.edu.mx
SUMMARY:Rueda de Prensa\, premio de FIDC de la UNESCO otorgado a CIESAS Occidente
DESCRIPTION:Por primera vez el CIESAS Occidente y UNESCO trabajarán en conjunto con el proyecto Mapping and creating\nnetworks among cultural partners to strengthe capacities and drive community action in Jalisco\, Mexico\, por ser uno de los 12 proyectos seleccionados entre más de 1\,500 que participaron en la edición 2024 del Fondo Internacional para la Diversidad Cultural (FIDC) de la UNESCO\, el cual impulsa la economía creativa en todo el mundo y tiene como objetivo apoyar a las comunidades para promover industrias culturales y creativas\nprósperas. Por lo que se invita a la rueda de prensa\, en donde la Dra. en Antropología Social\, Alejandra Aguilar Ross\, quien está al mando del proyecto\, hablará sobre la consistencia del mismo\, así como del trabajo a realizarse.
URL:https://occidente.ciesas.edu.mx/event/21402/
ATTACH;FMTTYPE=image/png:https://occidente.ciesas.edu.mx/wp-content/uploads/2024/09/Flyer_CIESAS-UNESCO3.png
END:VEVENT
BEGIN:VEVENT
DTSTART;TZID=UTC:20240917T170000
DTEND;TZID=UTC:20240917T190000
DTSTAMP:20260419T065432
CREATED:20240902T212031Z
LAST-MODIFIED:20240907T023842Z
UID:21381-1726592400-1726599600@occidente.ciesas.edu.mx
SUMMARY:Religiosidad y estado: nuevos enfoques desde Argentina y México
DESCRIPTION:Seminario sobre Religiosidades Contemporáneas\nReligiosidad y estado: nuevos enfoques desde Argentina y México con Pilar García Bossio y Abraham Hawley\nFacebookLive @CIESAS_Occidente
URL:https://occidente.ciesas.edu.mx/event/religiosidad-y-estado-nuevos-enfoques-desde-argentina-y-mexico/
ATTACH;FMTTYPE=image/png:https://occidente.ciesas.edu.mx/wp-content/uploads/2024/09/Cuadrado-3.png
END:VEVENT
BEGIN:VEVENT
DTSTART;TZID=UTC:20240912T120000
DTEND;TZID=UTC:20240912T140000
DTSTAMP:20260419T065432
CREATED:20240902T211747Z
LAST-MODIFIED:20240904T021747Z
UID:21379-1726142400-1726149600@occidente.ciesas.edu.mx
SUMMARY:¿Qué energía sostiene la vida en la Pampa de Poncho?
DESCRIPTION:Seminario: Los claroscuros de la transición energética en América Latina: conflictos y alternativas socioterritoriales.\n¿Qué energía sostiene la vida en la Pampa de Poncho? Desigualdades energéticas y gestión comunitaria de la energía desde una mirada feminista con Guadalupe Huerta y Romina María Bocco\nFacebookLive https://www.facebook.com/share/irtM5WpZo5pd66ak/\nRegistro: https://bit.ly/TransEnerSep
URL:https://occidente.ciesas.edu.mx/event/que-energia-sostiene-la-vida-en-la-pampa-de-poncho/
ATTACH;FMTTYPE=image/png:https://occidente.ciesas.edu.mx/wp-content/uploads/2024/09/Cuadrado-2-e1725394623537.png
END:VEVENT
BEGIN:VEVENT
DTSTART;TZID=UTC:20240910T100000
DTEND;TZID=UTC:20240910T170000
DTSTAMP:20260419T065432
CREATED:20240902T205430Z
LAST-MODIFIED:20240904T223616Z
UID:21375-1725962400-1725987600@occidente.ciesas.edu.mx
SUMMARY:Sostener los cuidados en la movilidad
DESCRIPTION:Seminario Permanente sobre Migración TRAMOS\nSesión: Sostener los cuidados en la movilidad: mujeres centroamericanas en la región centro México con Dra. Itrzel Abril Tinoco González y la Mtra. Karla Ivonne Brito Gómez\nYouTube @TRAMOSSeminarioCIESAS\nInscripción https://forms.gle/FojJv6ShjEPWSVSU7
URL:https://occidente.ciesas.edu.mx/event/sostener-los-cuidados-en-la-movilidad/
ATTACH;FMTTYPE=image/png:https://occidente.ciesas.edu.mx/wp-content/uploads/2024/09/Cuadrado-e1725467770620.png
END:VEVENT
BEGIN:VEVENT
DTSTART;TZID=UTC:20240905T170000
DTEND;TZID=UTC:20240905T190000
DTSTAMP:20260419T065432
CREATED:20240817T002922Z
LAST-MODIFIED:20240817T003011Z
UID:21355-1725555600-1725562800@occidente.ciesas.edu.mx
SUMMARY:Sobre las vías del tren maya
DESCRIPTION:Seminario ecología política\, sufrimiento socioambiental y acción pólítica\nSobre las vías del tren maya: un camino hacia los umbrales de la falla institucional y la construcción del riesgo\nPresenta: Dra. Angeles A López Santillán / CIESAS-Peninsular\nRegistro: https://forms.office.com/pages/responsepage.aspx?id=L15o3XT5PUKaufUlwKByoGlDR9sYjeZPivQ14MxlBC1UMVg5TEg4WVpZSU05UjdLOUJGMEFZVFJMNS4u
URL:https://occidente.ciesas.edu.mx/event/sobre-las-vias-del-tren-maya/
ATTACH;FMTTYPE=image/jpeg:https://occidente.ciesas.edu.mx/wp-content/uploads/2024/08/S35-e1723832997429.jpg
END:VEVENT
BEGIN:VEVENT
DTSTART;TZID=UTC:20240902T170000
DTEND;TZID=UTC:20240902T190000
DTSTAMP:20260419T065432
CREATED:20240817T023538Z
LAST-MODIFIED:20240817T023538Z
UID:21359-1725296400-1725303600@occidente.ciesas.edu.mx
SUMMARY:¿Diálogos de saberes?
DESCRIPTION:El Seminario Interdisciplinario en Eduación del CIESAS les invita a la ponencia “¿Diálogos de saberes? Experiencias colaborativas etnográficas con jóvenes egresados de una universidad intercultural” con el Dr. Gunther Dietz y la Dra. Laura Selene Mateos Cortés. Modera la Dra. Elizabeth M. Buenabad \nLa cita es el 2 de septiembre a las 17:00 horas por Facebook Live de CIEAS Occidente
URL:https://occidente.ciesas.edu.mx/event/dialogos-de-saberes/
ATTACH;FMTTYPE=image/jpeg:https://occidente.ciesas.edu.mx/wp-content/uploads/2024/08/InstagramSIE_CIESAS_GuntherDietz_LauraMateos-DialogosDeSaberes.jpg
END:VEVENT
BEGIN:VEVENT
DTSTART;TZID=UTC:20240902T110000
DTEND;TZID=UTC:20240902T130000
DTSTAMP:20260419T065432
CREATED:20240815T232242Z
LAST-MODIFIED:20240815T232242Z
UID:21349-1725274800-1725282000@occidente.ciesas.edu.mx
SUMMARY:Dos decadas después de Migration\, mujercitas\, and Medicine men. Living in Urban Mexico
DESCRIPTION:Conversatorio con Valentina Napolitano. Dos decadas después de Migration\, mujercitas\, and Medicine men. Living in Urban Mexico\nEn el marco de la apertura de la generación 2024 – 2028 del Doctorado en Ciencias Sociales de CIESAS Occidente \nParticipantes\nValentina Napolitano\nHéctor Medina\nRenée de la Torre\nIssac Vargas \nFacebookLive @CIESASoccidente\nAuditorio Luisa Gabayet Av. Alemania 1626\, Moderna\, 44190\, Guadalajara\, Jal.\nPrograma: https://occidente.ciesas.edu.mx/wp-content/uploads/2024/07/Coloquio-vieolencias-tacticas-y-esteticas.docx-1.pdf
URL:https://occidente.ciesas.edu.mx/event/dos-decadas-despues-de-migration-mujercitas-and-medicine-men-living-in-urban-mexico/
ATTACH;FMTTYPE=image/png:https://occidente.ciesas.edu.mx/wp-content/uploads/2024/08/Cuadrado-2.png
END:VEVENT
BEGIN:VEVENT
DTSTART;TZID=UTC:20240830T100000
DTEND;TZID=UTC:20240830T120000
DTSTAMP:20260419T065432
CREATED:20240824T010019Z
LAST-MODIFIED:20240824T010029Z
UID:21370-1725012000-1725019200@occidente.ciesas.edu.mx
SUMMARY:Guadalajara ante la encrucijada para enfrentar el reto del agua
DESCRIPTION:Les invitamos a la Conferencia «Guadalajara ante la encrucijada para enfrentar el reto del agua: Expansión de infraestructura gris a gran escala o soluciones basada en la naturaleza» con el Dr. Pieter van der Zaag y el Dr. Jonatan Godinez Madrigal\nFacebookLive  https://www.facebook.com/share/5HaYFkZbvfr8aPzX/\nAuditorio Guillermo de la Peña. Av. España 1359\, Moderna\, 44190 Guadalajara\, Jal.
URL:https://occidente.ciesas.edu.mx/event/21370/
ATTACH;FMTTYPE=image/png:https://occidente.ciesas.edu.mx/wp-content/uploads/2024/08/30-Agosto-Cuadrado.png
END:VEVENT
BEGIN:VEVENT
DTSTART;TZID=UTC:20240829T090000
DTEND;TZID=UTC:20240829T190000
DTSTAMP:20260419T065432
CREATED:20240710T235342Z
LAST-MODIFIED:20240816T025220Z
UID:21258-1724922000-1724958000@occidente.ciesas.edu.mx
SUMMARY:Ecos de la violencia: miradas multidisciplinares
DESCRIPTION:Coloquio Ecos de la violencia: miradas multidisciplinares\, el tema es «Violencias\, estéticas\, recursos y tácticas\, y arte como voy del dolor»\, tendremos la participación de: Claudia Reyes\, Isaac Vargas González\,\nSara Elena Velázquez Moreno\, Axel Villaseñor\, Alina Peña Iguarán\, Renee De la Torre\, Itzel Ximena Torres\, Thelma Alejandra Mata\, Carlos Y. Flores\, Rossana Reguillo\, Laura Roush\, Arturo Fabián\, Darwin Franco\, Miriam Araceli Rodríguez Martínez\, Carlos Valencia\, Claudia Rodríguez\, Isabel López y Samuel Rivera.\n 28 y 29 agosto 2024\n 9:00 a 14:00 y 16:00 a 19:00 horas\n Auditorio Guillermo de la Peña\, #CIESAS_Occidente\, Av. España 1359\, Moderna\, 44190 Guadalajara\, Jal.\n Programa completo: https://bit.ly/ColoquioEcoViolencia1\n Abierto al público con reservación: comunicacionoccte@ciesas.edu.mx\nIncripción para Zoom https://bit.ly/Ecos29ago
URL:https://occidente.ciesas.edu.mx/event/etnografias-visuales-y-sonoras-de-las-violencias-en-el-occidente-de-mexico-2/
ATTACH;FMTTYPE=image/jpeg:https://occidente.ciesas.edu.mx/wp-content/uploads/2024/07/Banner_ColoquioEcosDeLasViolencias-e1721330145642.jpeg
END:VEVENT
BEGIN:VEVENT
DTSTART;TZID=UTC:20240828T090000
DTEND;TZID=UTC:20240828T190000
DTSTAMP:20260419T065432
CREATED:20240710T235232Z
LAST-MODIFIED:20240816T025145Z
UID:21256-1724835600-1724871600@occidente.ciesas.edu.mx
SUMMARY:Ecos de la violencia: miradas multidisciplinares
DESCRIPTION:Coloquio Ecos de la violencia: miradas multidisciplinares\, el tema es «Violencias\, estéticas\, recursos y tácticas\, y arte como voy del dolor»\, tendremos la participación de: Claudia Reyes\, Isaac Vargas González\,\nSara Elena Velázquez Moreno\, Axel Villaseñor\, Alina Peña Iguarán\, Renee De la Torre\, Itzel Ximena Torres\, Thelma Alejandra Mata\, Carlos Y. Flores\, Rossana Reguillo\, Laura Roush\, Arturo Fabián\, Darwin Franco\, Miriam Araceli Rodríguez Martínez\, Carlos Valencia\, Claudia Rodríguez\, Isabel López y Samuel Rivera.\n 28 y 29 agosto 2024\n 9:00 a 14:00 y 16:00 a 19:00 horas\n Auditorio Guillermo de la Peña\, #CIESAS_Occidente\, Av. España 1359\, Moderna\, 44190 Guadalajara\, Jal.\n Programa completo: https://bit.ly/ColoquioEcoViolencia1\n Abierto al público con reservación: comunicacionoccte@ciesas.edu.mx\nIncripción para Zoom https://bit.ly/Ecos28ago
URL:https://occidente.ciesas.edu.mx/event/etnografias-visuales-y-sonoras-de-las-violencias-en-el-occidente-de-mexico/
LOCATION:CIESAS Occidente\, España 1359\, col. Moderna\, Guadalajara\, Jalisco\, 44190\, México
ATTACH;FMTTYPE=image/jpeg:https://occidente.ciesas.edu.mx/wp-content/uploads/2024/07/Banner_ColoquioEcosDeLasViolencias-e1721330145642.jpeg
END:VEVENT
BEGIN:VEVENT
DTSTART;TZID=UTC:20240827T170000
DTEND;TZID=UTC:20240827T190000
DTSTAMP:20260419T065432
CREATED:20240626T034634Z
LAST-MODIFIED:20240817T003253Z
UID:21224-1724778000-1724785200@occidente.ciesas.edu.mx
SUMMARY:Proceso de educación y formación médica
DESCRIPTION:Seminario Permanente Socioantropologia de la Salud en Occidente \nEje temático. Proceso de educación y formación médica \nInformes: seminario.ssaso@gmail.com
URL:https://occidente.ciesas.edu.mx/event/proceso-de-educacion-y-formacion-medica/
ATTACH;FMTTYPE=image/png:https://occidente.ciesas.edu.mx/wp-content/uploads/2024/06/1080-x-1080-SSASO-27-de-AGOSTO-2024.png
END:VEVENT
BEGIN:VEVENT
DTSTART;TZID=UTC:20240827T120000
DTEND;TZID=UTC:20240827T140000
DTSTAMP:20260419T065432
CREATED:20240822T054633Z
LAST-MODIFIED:20240822T054633Z
UID:21364-1724760000-1724767200@occidente.ciesas.edu.mx
SUMMARY:Devenir transmasculino: una reflexión autoestnográfica
DESCRIPTION:Seminario Permanente de Corporalidades\nQuinta sesión: Devenir transmasculino: una reflexión autoetnográfica\nImparte: Mtro. Ari Rodríguez Medel\nComenta: GT Corporalidades Disidentes y Fugas\nFacebookLive: CIESAS Occidente
URL:https://occidente.ciesas.edu.mx/event/devenir-transmasculino-una-reflexion-autoestnografica/
ATTACH;FMTTYPE=image/png:https://occidente.ciesas.edu.mx/wp-content/uploads/2024/08/1000053516.png
END:VEVENT
BEGIN:VEVENT
DTSTART;TZID=UTC:20240821T170000
DTEND;TZID=UTC:20240821T190000
DTSTAMP:20260419T065432
CREATED:20240815T025229Z
LAST-MODIFIED:20240815T025229Z
UID:21346-1724259600-1724266800@occidente.ciesas.edu.mx
SUMMARY:Navegando alrededor de lo hidrosocial: cuencas\, ríos y sedimentos fluviales del Usumacinta
DESCRIPTION:El seminario permanente ambiente y sociedad invita a su tercera sesión «Navegando alrededor de lo hidrosocial: cuencas\, ríos y sedimentos fluviales del Usumacinta». Presenta: Edith Kauffer de Ciesas Sureste\n 21 agostos 2024\n 17:00 horas\nFacebookLive  #CIESAS_Occidente\nRegistro  https://bit.ly/RHSMC-03\n\n\n#SomosCIESAS CIESAS
URL:https://occidente.ciesas.edu.mx/event/navegando-alrededor-de-lo-hidrosocial-cuencas-rios-y-sedimentos-fluviales-del-usumacinta/
ATTACH;FMTTYPE=image/png:https://occidente.ciesas.edu.mx/wp-content/uploads/2024/08/Cuadrado-1.png
END:VEVENT
BEGIN:VEVENT
DTSTART;TZID=UTC:20240820T100000
DTEND;TZID=UTC:20240820T180000
DTSTAMP:20260419T065432
CREATED:20240710T234756Z
LAST-MODIFIED:20240813T043419Z
UID:21254-1724148000-1724176800@occidente.ciesas.edu.mx
SUMMARY:Seminario de niñeces jornaleras y campesinas
DESCRIPTION:Seminario: Niñeces en la Agricultura \n20 de agosto 2024 | 10:00 a 14:00 horas \nAuditorio Guillermo de la Peña. CIESAS Occidente Av. España #1359 Col. Moderna\, Guadalajara\, Jalisco \nPrograma: \n10:00 hrs. Inauguración. \n10:15 hrs. Conferencia magistral. \nDra. Marcela Crovetto. Universidad de Buenos Aires\, Argentina. \nModerador: Dr. José Guadalupe Salazar (Rector CUSur-UdeG) \n11:15 hrs. Mesa 1. Niñeces jornaleras. \n\nDr. Jesús Madera Pacheco y Dr. Dagoberto de Dios Hernández. Universidad Autónoma de Nayarit.\nMtra. Elisa Alejandra Martínez Rubio. Universidad de Guadalajara.\nDra. Sarai Miranda Juárez. Colegio de la Frontera Sur.\n\n12:15 a 12:30 hrs. Receso \n12: 30 hrs. Mesa 2. Niñeces y agroquímicos \n\nDr. Humberto González Chávez. CIESAS Occidente.\nDr. Felipe Lozano Kasten. CUCS. Universidad de Guadalajara.\nDr. Alejandro Macías Macías. CUSur. Universidad de Guadalajara.\n\n13:30 hrs. Mesa 3. Alternativas de acompañamiento a niñeces en contextos agroindustriales \n\nExperiencia huerto escolar Jala\, Nayarit. Profa. Yahayra Flores Navarro.\nExperiencia huerto escolar El Rodeo\, Jalisco. Mtra. Lizeth Sevilla García.\nExperiencia Caracol Psicosocial A.C. Dr. David Sánchez e Ing. Lucero Sánchez.\n\nParticipantes: Marcela Crovetto (Universidad de Buenos Aires) Jesús Madera Pacheco (Universidad Autónoma de Nayarit) Dagoberto de Dios Hernández (Universidad Autónoma de Nayarit) Elisa Alejandra Martínez (Universidad de Guadalajara) Sarai Miranda Juárex (El Colegio de la Frontera Sur) Humberto González Chávez (CIESAS unidad Occidente) Felipe de Jesús Lozano Kasten (Universidad de Guadalajara) Alejandro Macías Macías (Universidad de Guadalajara) David Sánchez Sánchez (Universidad de Guadalajara) Lucero Sánchez Sanchéz (Tecnológico Superior de Jalisco -Cuquio) Lizeth Sevilla García (Universidad de Guadalajara) Yahayra Flores Navarro (Escuela Sor Juana Inés de la Cruz)
URL:https://occidente.ciesas.edu.mx/event/seminario-de-nineces-jornaleras-y-campesinas/
ATTACH;FMTTYPE=image/png:https://occidente.ciesas.edu.mx/wp-content/uploads/2024/07/Postal-Programa.png
END:VEVENT
BEGIN:VEVENT
DTSTART;TZID=UTC:20240815T120000
DTEND;TZID=UTC:20240815T140000
DTSTAMP:20260419T065432
CREATED:20240814T220508Z
LAST-MODIFIED:20240814T220508Z
UID:21343-1723723200-1723730400@occidente.ciesas.edu.mx
SUMMARY:Modelos de transición energética
DESCRIPTION:Seminario los claroscuros del a transición energética en América Latina: conflictos y alternativas socioterritoriales invita a su siguiente sesión. Estarán el Dr. Diego Hurtado CONICET Dialoga y el Mtro. Nicolás Malinovsky de #UNIPAZ con «Modelos de #TransiciónEnergética en pugna para el Sur Global»\, y la Dra. Diana Elena Serrano Camarena Universidad de Guadalajara con «Acercamiento de la Ley de Minería 2023 en #México desde el concepto de vulnerabilidad del territorio».\n\n\n📅 15 agosto 2024\n\n\n⏰ 12:00 horas\n\n\nFacebookLive 🎥 #CIESAS_Occidente\n\n\nRegistro ✍ https://bit.ly/TransEnerAgo\n\n\n \n\n\n#SomosCIESAS
URL:https://occidente.ciesas.edu.mx/event/modelos-de-transicion-energetica/
ATTACH;FMTTYPE=image/png:https://occidente.ciesas.edu.mx/wp-content/uploads/2024/08/Cuadrado.png
END:VEVENT
BEGIN:VEVENT
DTSTART;TZID=UTC:20240812T170000
DTEND;TZID=UTC:20240812T190000
DTSTAMP:20260419T065432
CREATED:20240710T234419Z
LAST-MODIFIED:20240716T214634Z
UID:21250-1723482000-1723489200@occidente.ciesas.edu.mx
SUMMARY:Progresiones de aprendizaje situado
DESCRIPTION:Seminario Interdisciplinario en Eduación del CIESAS \nMesa: Mediaciones culturales: políticas\, sujetos y vinculación comunitaria. \nPonencia: Progresiones de aprendizaje situado: propiciando una educación con pertinencia cultural y socio-ecológica. \nPonentes: Dra. Guadalupe Mendoza-Zuany y Dr. Juan Carlos Sandoval Rivera \nComentarista: Dra. Cora Jiménez Narcia \nFacebookLive: CIESAS Occidente \n 
URL:https://occidente.ciesas.edu.mx/event/progresiones-de-aprendizaje-situado/
ATTACH;FMTTYPE=image/jpeg:https://occidente.ciesas.edu.mx/wp-content/uploads/2024/07/InstagramCatedraLuzElenaGalvan-SIE-CIESAS-GuadalupeZuany.jpg
END:VEVENT
BEGIN:VEVENT
DTSTART;TZID=UTC:20240718T170000
DTEND;TZID=UTC:20240718T190000
DTSTAMP:20260419T065432
CREATED:20240702T051549Z
LAST-MODIFIED:20240702T051549Z
UID:21239-1721322000-1721329200@occidente.ciesas.edu.mx
SUMMARY:El multicolor de la energía. Desafíos y oportunidades para la transición energética
DESCRIPTION:Seminario los claroscuros de la transición energética en América Latina: conflictos y alternativas socioterritoriales invita a la presentación de libro «El multicolor de la energía. Desafíos y oportunidades para la transición energética». Participan: Dr. Luca Ferrari\, Dr. Jaime Torres Guillén y la autora del libro Dra. Aleida Azamar Alonso\n 18 julio 2024\n 17:00 horas\nFacebookLive  #CIESAS_Occidente\nRegistro  https://bit.ly/TransEnerJul
URL:https://occidente.ciesas.edu.mx/event/el-multicolor-de-la-energia-desafios-y-oportunidades-para-la-transicion-energetica/
ATTACH;FMTTYPE=image/png:https://occidente.ciesas.edu.mx/wp-content/uploads/2024/07/Cuadrado.png
END:VEVENT
BEGIN:VEVENT
DTSTART;TZID=UTC:20240703T120000
DTEND;TZID=UTC:20240703T140000
DTSTAMP:20260419T065432
CREATED:20240618T230808Z
LAST-MODIFIED:20240618T230808Z
UID:21202-1720008000-1720015200@occidente.ciesas.edu.mx
SUMMARY:De la religiosidad vivida a la religiosidad bisagra
DESCRIPTION:Webinarios ACSRAL \nPanel del libro «De la religiosidad vivida a la religiosidad bisagra. Experiencias de lo sagrado en el México contemporáneo» con Alejandro Frigerio\, Gustvo Morello\, Kali Argyriadis\, Fedeerico Aguirre
URL:https://occidente.ciesas.edu.mx/event/de-la-religiosidad-vivida-a-la-religiosidad-bisagra/
ATTACH;FMTTYPE=image/png:https://occidente.ciesas.edu.mx/wp-content/uploads/2024/06/Diseno-sin-titulo.png
END:VEVENT
BEGIN:VEVENT
DTSTART;TZID=UTC:20240701T170000
DTEND;TZID=UTC:20240701T170000
DTSTAMP:20260419T065432
CREATED:20240619T001534Z
LAST-MODIFIED:20240619T001616Z
UID:21209-1719853200-1719853200@occidente.ciesas.edu.mx
SUMMARY:Mediaciones culturales: políticas\, sujetos y vinculación comunitaria
DESCRIPTION:Seminario Interdisciplinario en Eduación del CIESAS \nMesa: Mediaciones culturales: políticas\, sujetos y vinculación comunitaria \nPonente: Gra. Graciela Freyermuth Enciso con «Investigación-acción: de la eduación popular a la eduación para la incidencia política \nComentarista: Dra. Xóchitl Leyva Solano
URL:https://occidente.ciesas.edu.mx/event/21209/
ATTACH;FMTTYPE=image/jpeg:https://occidente.ciesas.edu.mx/wp-content/uploads/2024/06/InstagramCatedraLuzElenaGalvan-SIE-CIESAS-GracielaFreyermuth.jpg
END:VEVENT
BEGIN:VEVENT
DTSTART;TZID=UTC:20240627T170000
DTEND;TZID=UTC:20240627T190000
DTSTAMP:20260419T065432
CREATED:20240621T014146Z
LAST-MODIFIED:20240621T014146Z
UID:21219-1719507600-1719514800@occidente.ciesas.edu.mx
SUMMARY:Política de agua y drenaje en territorios indígenas de Hidalgo
DESCRIPTION:Seminario Permanente Ambiente y Sociedad \nSegunda sesión: Política de agua y drenaje en territorios indígenas de Hidalgo: el caso de la microcuenca del Río Venado en el contexto de la crisis climática \nPresentan: Dr. Jorge Dolores Bautista y Dr. Reynaldo Amador Pérez \n 
URL:https://occidente.ciesas.edu.mx/event/politica-de-agua-y-drenaje-en-territorios-indigenas-de-hidalgo/
ATTACH;FMTTYPE=image/png:https://occidente.ciesas.edu.mx/wp-content/uploads/2024/06/Cuadrado-2.png
END:VEVENT
BEGIN:VEVENT
DTSTART;TZID=UTC:20240626T080000
DTEND;TZID=UTC:20240626T170000
DTSTAMP:20260419T065432
CREATED:20240321T210446Z
LAST-MODIFIED:20240618T232307Z
UID:20650-1719388800-1719421200@occidente.ciesas.edu.mx
SUMMARY:GT Corporalidades Disidentes
DESCRIPTION:Seminario Permanente de Corporalidades \nCuarta sesión: Dispositivo cisheteropatriarcal en la atención a las corporalidades disidentes \nImparten: Mtro.Iván Borbón Muñoz\, Dra. Kenia Ortiz Cadena Dra y Edith Villavicencio Castañeda \n  \nCoordinan: Alejandra Aguilar\, Daniel Vázquez\, Carolina Romero\, Tania Aguilar
URL:https://occidente.ciesas.edu.mx/event/gt-corporalidades-disidentes/
ATTACH;FMTTYPE=image/png:https://occidente.ciesas.edu.mx/wp-content/uploads/2024/06/SECORP-horizontal.png
END:VEVENT
END:VCALENDAR