BEGIN:VCALENDAR
VERSION:2.0
PRODID:-//Occidente - ECPv6.15.20//NONSGML v1.0//EN
CALSCALE:GREGORIAN
METHOD:PUBLISH
X-ORIGINAL-URL:https://occidente.ciesas.edu.mx
X-WR-CALDESC:Eventos para Occidente
REFRESH-INTERVAL;VALUE=DURATION:PT1H
X-Robots-Tag:noindex
X-PUBLISHED-TTL:PT1H
BEGIN:VTIMEZONE
TZID:America/Chicago
BEGIN:DAYLIGHT
TZOFFSETFROM:-0600
TZOFFSETTO:-0500
TZNAME:CDT
DTSTART:20250309T080000
END:DAYLIGHT
BEGIN:STANDARD
TZOFFSETFROM:-0500
TZOFFSETTO:-0600
TZNAME:CST
DTSTART:20251102T070000
END:STANDARD
BEGIN:DAYLIGHT
TZOFFSETFROM:-0600
TZOFFSETTO:-0500
TZNAME:CDT
DTSTART:20260308T080000
END:DAYLIGHT
BEGIN:STANDARD
TZOFFSETFROM:-0500
TZOFFSETTO:-0600
TZNAME:CST
DTSTART:20261101T070000
END:STANDARD
BEGIN:DAYLIGHT
TZOFFSETFROM:-0600
TZOFFSETTO:-0500
TZNAME:CDT
DTSTART:20270314T080000
END:DAYLIGHT
BEGIN:STANDARD
TZOFFSETFROM:-0500
TZOFFSETTO:-0600
TZNAME:CST
DTSTART:20271107T070000
END:STANDARD
END:VTIMEZONE
BEGIN:VEVENT
DTSTART;TZID=America/Chicago:20260820T110000
DTEND;TZID=America/Chicago:20260820T130000
DTSTAMP:20260425T215241
CREATED:20260113T204230Z
LAST-MODIFIED:20260113T204230Z
UID:22824-1787223600-1787230800@occidente.ciesas.edu.mx
SUMMARY:Críticas a la solución de los dos Estados y la propuesta del Estado cívico
DESCRIPTION:Seminario: El giro Solidario. Voces contra el genocidio en Gaza\n\nSesión: Críticas a la solución de los dos Estados y la propuesta del Estado cívico con Juan David Echeverry\nSesión por Zoom \nSesiones anteriores
URL:https://occidente.ciesas.edu.mx/event/criticas-a-la-solucion-de-los-dos-estados-y-la-propuesta-del-estado-civico/
ATTACH;FMTTYPE=image/png:https://occidente.ciesas.edu.mx/wp-content/uploads/2025/08/01.Cartel_GiroSol_CJA2025-e1759772560920.png
END:VEVENT
BEGIN:VEVENT
DTSTART;TZID=America/Chicago:20260827T080000
DTEND;TZID=America/Chicago:20260827T170000
DTSTAMP:20260425T215241
CREATED:20260113T204421Z
LAST-MODIFIED:20260113T204421Z
UID:22826-1787817600-1787850000@occidente.ciesas.edu.mx
SUMMARY:El giro solidario ¿Qué seguir haciendo?
DESCRIPTION:Seminario: El giro Solidario. Voces contra el genocidio en Gaza\n\nSesión: El giro solidario ¿Qué seguir haciendo? con Moisés Garduño García y Márgara Millán Moncayo\nSesión por Zoom \nSesiones anteriores
URL:https://occidente.ciesas.edu.mx/event/el-giro-solidario-que-seguir-haciendo/
ATTACH;FMTTYPE=image/png:https://occidente.ciesas.edu.mx/wp-content/uploads/2025/08/01.Cartel_GiroSol_CJA2025-e1759772560920.png
END:VEVENT
BEGIN:VEVENT
DTSTART;TZID=America/Chicago:20260904T170000
DTEND;TZID=America/Chicago:20260904T190000
DTSTAMP:20260425T215241
CREATED:20260116T164112Z
LAST-MODIFIED:20260116T164112Z
UID:22837-1788541200-1788548400@occidente.ciesas.edu.mx
SUMMARY:Seminario Permanente Las Otras Historias
DESCRIPTION:Seminario Permanente Las Otras Historias. Marginalidad\, Transgresión\, Justicia y Control Social \nSesión 6  \n“El duelo: un recurso de honor entre los honorables decimonónicos mexicanos”. Nubia Vásquez Illescas\, Universidad Autónoma del Estado de México  \n“Indisolubilidad en entredicho. Conflictos matrimoniales en Colima (México) a lo largo del siglo XIX”. María del Carmen Olague Méndez\, Universidad de Guadalajara \n“Un crimen impune. Enrique Rodé\, uxoricida de Amelia Zornoza. Emoción violenta\, discurso científico y control social en la Ciudad de México (1888– 1891)”. Gerardo González Ascencio\, Universidad Autónoma Metropolitana U-Azcapotzalco
URL:https://occidente.ciesas.edu.mx/event/seminario-permanente-las-otras-historias-4/
ATTACH;FMTTYPE=image/jpeg:https://occidente.ciesas.edu.mx/wp-content/uploads/2026/01/LasotrasHistorias1-1.jpg
END:VEVENT
BEGIN:VEVENT
DTSTART;TZID=America/Chicago:20261002T170000
DTEND;TZID=America/Chicago:20261002T190000
DTSTAMP:20260425T215241
CREATED:20260116T164351Z
LAST-MODIFIED:20260116T164351Z
UID:22839-1790960400-1790967600@occidente.ciesas.edu.mx
SUMMARY:Seminario Permanente Las Otras Historias
DESCRIPTION:Seminario Permanente Las Otras Historias. Marginalidad\, Transgresión\, Justicia y Control Social \nSesión 7.  \n“La Coalición Defensora de los Derechos Ciudadanos y su campaña por la reforma policial\, 1958-1962”. Keegan Boyar\, Instituto de Investigaciones Históricas-UNAM \n“Inteligencia cruzada: la colaboración entre la DFS y la CIA en torno a la Operación LIENVOY. El caso de Política. Quince Días de México y el Mundo (1960–1967)”. Josué Portillo Motte\, Instituto de Investigaciones Dr. José María Luis Mora
URL:https://occidente.ciesas.edu.mx/event/seminario-permanente-las-otras-historias-5/
END:VEVENT
BEGIN:VEVENT
DTSTART;TZID=America/Chicago:20261106T170000
DTEND;TZID=America/Chicago:20261106T190000
DTSTAMP:20260425T215241
CREATED:20260116T164718Z
LAST-MODIFIED:20260116T164718Z
UID:22841-1793984400-1793991600@occidente.ciesas.edu.mx
SUMMARY:Seminario Permanente Las Otras Historias
DESCRIPTION:Seminario Permanente Las Otras Historias. Marginalidad\, Transgresión\, Justicia y Control Social \nSesión 8. \n“Sublevación de los indios de Tepeque en la sierra de Colotlán\, 1702: rivalidad\, colaboración y articulaciones entre vecinos y fronterizos”. Zarina Estela Aguirre Lozano\, Universidad de Guadalajara \n“‘Con la cara y el pecho descarnados’. La narrativa de la violencia en Michoacán 1877-1900”. Pablo Alberto Escalante Piña\, Universidad para el Bienestar Benito Juárez García  \n“Recuento histórico del movimiento campesino del ejido Campo El Tajito\, Guasave\, Sinaloa\, entre 1968 y 1976”. Saori Scarlet García Palacio\,
URL:https://occidente.ciesas.edu.mx/event/seminario-permanente-las-otras-historias-6/
ATTACH;FMTTYPE=image/jpeg:https://occidente.ciesas.edu.mx/wp-content/uploads/2026/01/LasotrasHistorias1-1.jpg
END:VEVENT
BEGIN:VEVENT
DTSTART;TZID=America/Chicago:20261125T100000
DTEND;TZID=America/Chicago:20261127T170000
DTSTAMP:20260425T215241
CREATED:20260303T180929Z
LAST-MODIFIED:20260303T180929Z
UID:22916-1795600800-1795798800@occidente.ciesas.edu.mx
SUMMARY:Congreso de Corporalidades Intervenidas
DESCRIPTION:Congreso de Corporalidades Intervenidas \nA celebrarse los días: 25\, 26 y 27 de noviembre de 2026 \nModalidad: Híbrida CIESAS Occidente. Av. España 1359\, Moderna\, Guadalajara \nModalidades de participación: ponencias y exposición fotográfica \nRecepción de propuestas: del 5 de marzo al 15 de julio \nNotificación de aceptación 15 de agosto \nPara ver la convocatoria completa: https://ciesas.edu.mx/v/CongresoCI \nMás información: \nPágina Facebook: Congreso de Corporalidades Intervenidas \nCorreo: congresodecorporalidadesinterv@gmail.com
URL:https://occidente.ciesas.edu.mx/event/congreso-de-corporalidades-intervenidas/
ATTACH;FMTTYPE=image/png:https://occidente.ciesas.edu.mx/wp-content/uploads/2026/03/04.Cartel_CCI2026-1-e1772561290905.png
END:VEVENT
BEGIN:VEVENT
DTSTART;TZID=America/Chicago:20261204T170000
DTEND;TZID=America/Chicago:20261204T190000
DTSTAMP:20260425T215241
CREATED:20260116T165139Z
LAST-MODIFIED:20260116T165139Z
UID:22843-1796403600-1796410800@occidente.ciesas.edu.mx
SUMMARY:Seminario Permanente Las Otras Historias
DESCRIPTION:Seminario Permanente Las Otras Historias. Marginalidad\, Transgresión\, Justicia y Control Social \nSesión 9.  \n“‘Bailar al borde del volcán’. La semántica del riesgo en la economía oculta de la marihuana”. Octavio Castrejón Zarco\, El Colegio de Michoacán  \nEl Colegio de Michoacán “‘Robando y vendiendo ajeno’. Formación de clases\, empresas criminales y circulación de mercancía caliente cerca de una villa de descanso del centro de México”. Marco Antonio Zagal Guzmán\, Instituto de Investigaciones Antropológicas-UNAM
URL:https://occidente.ciesas.edu.mx/event/seminario-permanente-las-otras-historias-7/
ATTACH;FMTTYPE=image/jpeg:https://occidente.ciesas.edu.mx/wp-content/uploads/2026/01/LasotrasHistorias1-1.jpg
END:VEVENT
END:VCALENDAR