BEGIN:VCALENDAR
VERSION:2.0
PRODID:-//Occidente - ECPv6.15.20//NONSGML v1.0//EN
CALSCALE:GREGORIAN
METHOD:PUBLISH
X-ORIGINAL-URL:https://occidente.ciesas.edu.mx
X-WR-CALDESC:Eventos para Occidente
REFRESH-INTERVAL;VALUE=DURATION:PT1H
X-Robots-Tag:noindex
X-PUBLISHED-TTL:PT1H
BEGIN:VTIMEZONE
TZID:UTC
BEGIN:STANDARD
TZOFFSETFROM:+0000
TZOFFSETTO:+0000
TZNAME:UTC
DTSTART:20200101T000000
END:STANDARD
END:VTIMEZONE
BEGIN:VEVENT
DTSTART;TZID=UTC:20210929T170000
DTEND;TZID=UTC:20210929T170000
DTSTAMP:20260425T073901
CREATED:20221114T232833Z
LAST-MODIFIED:20221115T020251Z
UID:17923-1632934800-1632934800@occidente.ciesas.edu.mx
SUMMARY:Yoga y espiritualidad
DESCRIPTION:El Centro de Investigaciones y Estudios Superiores en Antropología Social (CIESAS)\, Unidad Occidente\, invita a la sesión 32 del Seminario sobre religiosidades contemporáneas: “Yoga y espiritualidad”. \nLa sesión será el miércoles 29 de septiembre de 2021 a las 17:00 horas (hora del centro de México)\, de manera virtual desde Bluejeans en este vínculo: https://bit.ly/Religiosidades32 y por Facebook Live a través de https://www.facebook.com/ciesasoccidente/ \nConsulta las lecturas recomendadas: https://bit.ly/Lecturas32 \nMira todas las conferencias anteriores del seminario en nuestro canal de Youtube: https://youtube.com/ciesasoccidente \nSe invita formar parte del Seminario sobre Religiosidades Contemporáneas\, que se organiza con el objetivo de construir un espacio de intercambio y discusión colectiva sobre proyectos de investigación en curso\, resultados de investigaciones recientes y textos pertinentes que estimulen y fortalezcan nuestro trabajo sobre religiosidades y espiritualidades contemporáneas. \nLas reuniones se realizan cada mes en sesiones de dos o tres horas. Algunos temas definidos para las próximas sesiones son: espiritualidades femeninas\, religiosidad popular\, religiosidades y cuerpo\, religiosidades étnicas. \nSe invita a participar\, y si resulta de su interés se pide lo hagan saber al correo semreligiosidades@gmail.com para articular los programas semestrales.
URL:https://occidente.ciesas.edu.mx/event/yoga-y-espiritualidad/
CATEGORIES:Seminario Religiosidades
ATTACH;FMTTYPE=image/jpeg:https://occidente.ciesas.edu.mx/wp-content/uploads/2022/11/conferencia-religiosidades32-e1668446842731.jpeg
END:VEVENT
END:VCALENDAR