BEGIN:VCALENDAR
VERSION:2.0
PRODID:-//Occidente - ECPv6.15.20//NONSGML v1.0//EN
CALSCALE:GREGORIAN
METHOD:PUBLISH
X-ORIGINAL-URL:https://occidente.ciesas.edu.mx
X-WR-CALDESC:Eventos para Occidente
REFRESH-INTERVAL;VALUE=DURATION:PT1H
X-Robots-Tag:noindex
X-PUBLISHED-TTL:PT1H
BEGIN:VTIMEZONE
TZID:UTC
BEGIN:STANDARD
TZOFFSETFROM:+0000
TZOFFSETTO:+0000
TZNAME:UTC
DTSTART:20230101T000000
END:STANDARD
END:VTIMEZONE
BEGIN:VEVENT
DTSTART;TZID=UTC:20240212T103000
DTEND;TZID=UTC:20240212T123000
DTSTAMP:20260420T002124
CREATED:20240207T030708Z
LAST-MODIFIED:20240207T030708Z
UID:20509-1707733800-1707741000@occidente.ciesas.edu.mx
SUMMARY:Encrucijadas Pedagógicas
DESCRIPTION:El Seminario Interdisciplinario en Educación del CIESAS invita a la mesa «Encrucijadas Pedagógicas»\n\n\nPonentes\n«El teatro de la enseñanza moderna de Clemente Antonio Neve 1860-1900»\nDra. Milada Bazant y Maddelyne Uribe El Colegio Mexiquense\, A. C.\n«Raquel Santoyo\, la escuela comercial. Miguel Lerdo de Tejada\, y las redes de influencia de una maestra\, 1903-1953»\nDra. Susie Porter University Union – University of Utah\n\n\nComentarista:\nDra Elida Lucila Campos Alba #ElCoelgioMexiquense\n\n\n 12 febrero de 2024\n 10:30 horas (mx)\n#YouTube  https://youtube.com/live/Y54z_GPZekk?feature=share\n\n\n#SomosCIESAS #CIESAS_Occidente El Colegio de San Luis\, A.C. Universidad Veracruzana
URL:https://occidente.ciesas.edu.mx/event/encrucijadas-pedagogicas/
ATTACH;FMTTYPE=image/png:https://occidente.ciesas.edu.mx/wp-content/uploads/2024/02/2.4.VRTLExt2do_SIE_2024.png.png
ORGANIZER;CN="Seminario Interdisciplinario de Educaci%C3%B3n":MAILTO:semeducciesascleg@gmail.com
END:VEVENT
BEGIN:VEVENT
DTSTART;TZID=UTC:20240212T170000
DTEND;TZID=UTC:20240212T190000
DTSTAMP:20260420T002124
CREATED:20240207T030444Z
LAST-MODIFIED:20240207T030444Z
UID:20506-1707757200-1707764400@occidente.ciesas.edu.mx
SUMMARY:Misiones cristianas y pueblos indígenas miradas antropológicas desde el Chaco y la Tarahumara
DESCRIPTION:El Seminario sobre Religiosidades Contemporáneas invita a la primera sesión de este año «Misiones cristianas y pueblos indígenas miradas antropológicas desde el Chaco y la Tarahumara».\nPresentan: César Ceriani Cernadas CONICET Dialoga «Evangelistas indígenas\, liderazgos y memorias en el Chaco argentino» y Gabriela Gil Veloz #CIESAS_Occidente «El Vicariato Apostólico de la Tarahumara»\n\n\n 22 noviembre de 2023\n 17:00 hrs. (mx)\n#YouTube  https://youtube.com/live/7p39w7_37YQ?feature=share\n\n\nTextos sugeridos: https://acortar.link/M3672F
URL:https://occidente.ciesas.edu.mx/event/misiones-cristianas-y-pueblos-indigenas-miradas-antropologicas-desde-el-chaco-y-la-tarahumara/
ATTACH;FMTTYPE=image/png:https://occidente.ciesas.edu.mx/wp-content/uploads/2024/02/Cuadrado.png
ORGANIZER;CN="Seminario sobre Religiosidades Contemporaneas":MAILTO:semreligiosidades@gmail.com
END:VEVENT
BEGIN:VEVENT
DTSTART;TZID=UTC:20240219T110000
DTEND;TZID=UTC:20240219T130000
DTSTAMP:20260420T002124
CREATED:20240209T221000Z
LAST-MODIFIED:20240209T221000Z
UID:20523-1708340400-1708347600@occidente.ciesas.edu.mx
SUMMARY:Colonialidad de género y sexualidad.
DESCRIPTION:Cátedra de Estudios Regionales Guillermo de la Peña \nPresentación: Colonialidad de género y sexualidad. Cómo las vidas íntimas del pueblo Wixárika cambiaron para siempre \nAuditorio Guillermo de la Peña. Av España 1359\, Moderna\, 44190 Guadalajara\, Jal. \nYouTube de CIESAS Occidente https://youtube.com/live/Kvrgf8cDt2c?feature=share
URL:https://occidente.ciesas.edu.mx/event/colonialidad-de-genero-y-sexualidad/
ATTACH;FMTTYPE=image/png:https://occidente.ciesas.edu.mx/wp-content/uploads/2024/02/426125772_733086982301242_4374186565272728350_n.png
END:VEVENT
BEGIN:VEVENT
DTSTART;TZID=UTC:20240221T100000
DTEND;TZID=UTC:20240221T120000
DTSTAMP:20260420T002124
CREATED:20231123T060641Z
LAST-MODIFIED:20231201T015721Z
UID:20286-1708509600-1708516800@occidente.ciesas.edu.mx
SUMMARY:Refugio y Marcos Regulatorios en la Región
DESCRIPTION:Seminario Permanente sobre Migración \nSesión: Refugio y Marcos Regulatorios en la Región \nPresenta: Feline Frier CAMIFOR-UP \nsepemio@ciesas.edu.mx \nRegistro: https://acortar.link/zSgNkr
URL:https://occidente.ciesas.edu.mx/event/refugio-y-marcos-regulatorios-en-la-region/
ATTACH;FMTTYPE=image/png:https://occidente.ciesas.edu.mx/wp-content/uploads/2023/11/21Febrero-e1701374233161.png
ORGANIZER;CN="TRAMOS":MAILTO:sepemio@ciesas.edu.mx
END:VEVENT
BEGIN:VEVENT
DTSTART;TZID=UTC:20240228T170000
DTEND;TZID=UTC:20240228T190000
DTSTAMP:20260420T002124
CREATED:20240209T022613Z
LAST-MODIFIED:20240209T022613Z
UID:20517-1709139600-1709146800@occidente.ciesas.edu.mx
SUMMARY:
DESCRIPTION:Seminario Permanente Ambiente y Sociedad \nSesión octava: Efectos de los plaguicidas en la salud humana y ecosistemas como el agua \nPresenta: Dr. Jael Salazar Flores Centro Universitario de la Ciénega UdeG \n 28 febrero de 2024\n 17:00 horas (mx)\n#YouTube  https://youtube.com/live/nd3SdqSFsyY?feature=share\n Registro: https://bit.ly/SAS-S08
URL:https://occidente.ciesas.edu.mx/event/20517/
ATTACH;FMTTYPE=image/png:https://occidente.ciesas.edu.mx/wp-content/uploads/2024/02/Cuadrado-1.png
ORGANIZER;CN="Seminario Permanente Ambiente y Sociedad":MAILTO:sem.amb.soc@gmail.com
END:VEVENT
BEGIN:VEVENT
DTSTART;TZID=UTC:20240229T160000
DTEND;TZID=UTC:20240229T180000
DTSTAMP:20260420T002124
CREATED:20240213T022311Z
LAST-MODIFIED:20240213T022311Z
UID:20533-1709222400-1709229600@occidente.ciesas.edu.mx
SUMMARY:¿Justicia ambiental para quién?
DESCRIPTION:Seminario Ecología Política\, Sufrimiento Socioambiental y Acción Política \nPonencia: ¿Justicia ambiental para quién? Inundaciones recurrentes y apego al lugar en colonia Santa Lucia «La Granja»\, Monterrey\, México. \nPresenta: Dra. Libertad Chávez-Rodríguez (CIESAS-Noreste) \nRegistro: https://forms.office.com/r/mUJgbJbSS1 \n 
URL:https://occidente.ciesas.edu.mx/event/justicia-ambiental-para-quien/
ATTACH;FMTTYPE=image/png:https://occidente.ciesas.edu.mx/wp-content/uploads/2024/02/Febrero.png
ORGANIZER;CN="Seminario Ecolog%C3%ADa Politica%2C Sufrimiento Socioambiental y Acci%C3%B3n Pol%C3%ADtica":MAILTO:sepsaas.20@gmail.com
END:VEVENT
END:VCALENDAR